BEGIN:VCALENDAR
VERSION:2.0
PRODID:-//hacksw/handcal//NONSGML v1.0//EN
CALSCALE:GREGORIAN
BEGIN:VEVENT
DTEND;TZID=Europe/Zurich:20221117T183000
UID:d4ac3c6d2c1de2da3c2648f1cc6a0128
DTSTAMP:1776945850
LOCATION:ONLINE VIA ZOOM
ORGANIZER:EGYPlasma
DESCRIPTION:Abstract
URL;VALUE=URI:event.php?variableName=d4ac3c6d2c1de2da3c2648f1cc6a0128
SUMMARY:Atmospheric Nonthermal Plasma Jet: Construction, Characterization and Applications
DTSTART;TZID=Europe/Zurich:20221117T173000
END:VEVENT
END:VCALENDAR